BEGIN:VCALENDAR
VERSION:2.0
PRODID:-//NorthSite Contemporary Arts_ - ECPv6.14.2//NONSGML v1.0//EN
CALSCALE:GREGORIAN
METHOD:PUBLISH
X-WR-CALNAME:NorthSite Contemporary Arts_
X-ORIGINAL-URL:https://northsite.org.au
X-WR-CALDESC:Events for NorthSite Contemporary Arts_
REFRESH-INTERVAL;VALUE=DURATION:PT1H
X-Robots-Tag:noindex
X-PUBLISHED-TTL:PT1H
BEGIN:VTIMEZONE
TZID:Australia/Brisbane
BEGIN:STANDARD
TZOFFSETFROM:+1000
TZOFFSETTO:+1000
TZNAME:AEST
DTSTART:20210101T000000
END:STANDARD
END:VTIMEZONE
BEGIN:VEVENT
DTSTART;TZID=Australia/Brisbane:20210401T130000
DTEND;TZID=Australia/Brisbane:20210401T150000
DTSTAMP:20260425T012630
CREATED:20200128T061207Z
LAST-MODIFIED:20230531T062328Z
UID:1572-1617282000-1617289200@northsite.org.au
SUMMARY:Project 'm e r i'  |  Performance and Opening - POSTPONED
DESCRIPTION:To commemorate the opening of the ‘m e r i’ project\, creative thinker and playwright Wendy Mocke performs a verbatim response to the photographic images and powerful stories shared by the women of Papua New Guinean heritage within the exhibition. \nJoin these women and Wendy Mocke for an afternoon of conversation and celebration. \nPerformance from 1:30pm (15 minute duration)
URL:https://northsite.org.au/event/project-m-e-r-i-performance-and-opening/
LOCATION:Gallery 1\, 96 Abbott Street\, Cairns\, Queensland\, 4870\, Australia
CATEGORIES:Artists Talks
ATTACH;FMTTYPE=image/jpeg:https://northsite.org.au/wp-content/uploads/2020/01/WENDY_MOCKE_H.jpg
END:VEVENT
END:VCALENDAR